BEGIN:VCALENDAR
VERSION:2.0
PRODID:-//Plone.org//NONSGML plone.app.event//EN
X-WR-TIMEZONE:Europe/Madrid
BEGIN:VEVENT
SUMMARY:Reunión con ciudadanía con cita previa
DTSTART;TZID=Europe/Madrid;VALUE=DATE-TIME:20240626T103000
DTEND;TZID=Europe/Madrid;VALUE=DATE-TIME:20240626T113000
DTSTAMP;VALUE=DATE-TIME:20260421T160457Z
UID:4d248bbf2253439ebc457a30f40d3c65@www.molletvalles.cat
CREATED;VALUE=DATE-TIME:20240621T130207Z
LAST-MODIFIED;VALUE=DATE-TIME:20240621T130211Z
LOCATION:Ayuntamiento de Mollet del Vallès
URL:https://www.molletvalles.cat/es/el-ayuntamiento/la-alcaldesa/agenda/re
 union-con-ciudadania-con-cita-previa-82
END:VEVENT
BEGIN:VTIMEZONE
TZID:Europe/Madrid
X-LIC-LOCATION:Europe/Madrid
BEGIN:DAYLIGHT
DTSTART;VALUE=DATE-TIME:20240331T030000
TZNAME:CEST
TZOFFSETFROM:+0100
TZOFFSETTO:+0200
END:DAYLIGHT
END:VTIMEZONE
END:VCALENDAR
