BEGIN:VCALENDAR
VERSION:2.0
PRODID:-//Plone.org//NONSGML plone.app.event//EN
X-WR-TIMEZONE:Europe/Madrid
BEGIN:VEVENT
SUMMARY:Reunión con entidad del municipio
DTSTART;TZID=Europe/Madrid;VALUE=DATE-TIME:20241210T190000
DTEND;TZID=Europe/Madrid;VALUE=DATE-TIME:20241210T200000
DTSTAMP;VALUE=DATE-TIME:20260425T121932Z
UID:75c059da546844889f8556a83e858b47@www.molletvalles.cat
CREATED;VALUE=DATE-TIME:20241216T152807Z
LAST-MODIFIED;VALUE=DATE-TIME:20241216T152810Z
LOCATION:Mollet del Vallès
URL:https://www.molletvalles.cat/es/el-ayuntamiento/la-alcaldesa/agenda/re
 union-con-entidad-del-municipio-3
END:VEVENT
BEGIN:VTIMEZONE
TZID:Europe/Madrid
X-LIC-LOCATION:Europe/Madrid
BEGIN:STANDARD
DTSTART;VALUE=DATE-TIME:20241027T020000
TZNAME:CET
TZOFFSETFROM:+0200
TZOFFSETTO:+0100
END:STANDARD
END:VTIMEZONE
END:VCALENDAR
