BEGIN:VCALENDAR
VERSION:2.0
PRODID:-//Plone.org//NONSGML plone.app.event//EN
X-WR-TIMEZONE:Europe/Madrid
BEGIN:VEVENT
SUMMARY:Reunión con entidad deportiva
DTSTART;TZID=Europe/Madrid;VALUE=DATE-TIME:20230425T173000
DTEND;TZID=Europe/Madrid;VALUE=DATE-TIME:20230425T183000
DTSTAMP;VALUE=DATE-TIME:20260421T160549Z
UID:83455992a2d04567b0cf5d8da40c365e@www.molletvalles.cat
CREATED;VALUE=DATE-TIME:20230427T133046Z
LAST-MODIFIED;VALUE=DATE-TIME:20230427T133049Z
LOCATION:Ayuntamiento de Mollet del Vallès
URL:https://www.molletvalles.cat/es/el-ayuntamiento/la-alcaldesa/agenda/re
 union-con-entidad-deportiva-3
END:VEVENT
BEGIN:VTIMEZONE
TZID:Europe/Madrid
X-LIC-LOCATION:Europe/Madrid
BEGIN:DAYLIGHT
DTSTART;VALUE=DATE-TIME:20230326T030000
TZNAME:CEST
TZOFFSETFROM:+0100
TZOFFSETTO:+0200
END:DAYLIGHT
END:VTIMEZONE
END:VCALENDAR
