BEGIN:VCALENDAR
VERSION:2.0
PRODID:-//Plone.org//NONSGML plone.app.event//EN
X-WR-TIMEZONE:Europe/Madrid
BEGIN:VEVENT
SUMMARY:Reunión con entidad deportiva
DTSTART;TZID=Europe/Madrid;VALUE=DATE-TIME:20230519T110000
DTEND;TZID=Europe/Madrid;VALUE=DATE-TIME:20230519T120000
DTSTAMP;VALUE=DATE-TIME:20260421T160548Z
UID:189e22f3a89d4725a7d1dba68fc82499@www.molletvalles.cat
CREATED;VALUE=DATE-TIME:20230516T111339Z
LAST-MODIFIED;VALUE=DATE-TIME:20230516T111342Z
LOCATION:Ayuntamiento de Mollet del Vallès
URL:https://www.molletvalles.cat/es/el-ayuntamiento/la-alcaldesa/agenda/re
 union-con-entidad-deportiva-4
END:VEVENT
BEGIN:VTIMEZONE
TZID:Europe/Madrid
X-LIC-LOCATION:Europe/Madrid
BEGIN:DAYLIGHT
DTSTART;VALUE=DATE-TIME:20230326T030000
TZNAME:CEST
TZOFFSETFROM:+0100
TZOFFSETTO:+0200
END:DAYLIGHT
END:VTIMEZONE
END:VCALENDAR
