BEGIN:VCALENDAR
VERSION:2.0
PRODID:-//Plone.org//NONSGML plone.app.event//EN
X-WR-TIMEZONE:Europe/Madrid
BEGIN:VEVENT
SUMMARY:Reunión con entidad deportiva
DTSTART;TZID=Europe/Madrid;VALUE=DATE-TIME:20231128T163000
DTEND;TZID=Europe/Madrid;VALUE=DATE-TIME:20231128T173000
DTSTAMP;VALUE=DATE-TIME:20260425T140832Z
UID:007e22c4e11e4d89b5f4362257b14efc@www.molletvalles.cat
CREATED;VALUE=DATE-TIME:20231201T131715Z
LAST-MODIFIED;VALUE=DATE-TIME:20231201T131718Z
LOCATION:Ayuntamiento de Mollet del Vallès
URL:https://www.molletvalles.cat/es/el-ayuntamiento/la-alcaldesa/agenda/re
 union-con-entidad-deportiva-7
END:VEVENT
BEGIN:VTIMEZONE
TZID:Europe/Madrid
X-LIC-LOCATION:Europe/Madrid
BEGIN:STANDARD
DTSTART;VALUE=DATE-TIME:20231029T020000
TZNAME:CET
TZOFFSETFROM:+0200
TZOFFSETTO:+0100
END:STANDARD
END:VTIMEZONE
END:VCALENDAR
