BEGIN:VCALENDAR
VERSION:2.0
PRODID:-//Plone.org//NONSGML plone.app.event//EN
X-WR-TIMEZONE:Europe/Madrid
BEGIN:VEVENT
SUMMARY:Reunión con entidad deportiva
DTSTART;TZID=Europe/Madrid;VALUE=DATE-TIME:20231211T183000
DTEND;TZID=Europe/Madrid;VALUE=DATE-TIME:20231211T193000
DTSTAMP;VALUE=DATE-TIME:20260421T160545Z
UID:c7ed3f1d8d99471da55bec1b3aeb7074@www.molletvalles.cat
CREATED;VALUE=DATE-TIME:20231211T141119Z
LAST-MODIFIED;VALUE=DATE-TIME:20231211T141122Z
LOCATION:Ayuntamiento de Mollet del Vallès
URL:https://www.molletvalles.cat/es/el-ayuntamiento/la-alcaldesa/agenda/re
 union-con-entidad-deportiva-9
END:VEVENT
BEGIN:VTIMEZONE
TZID:Europe/Madrid
X-LIC-LOCATION:Europe/Madrid
BEGIN:STANDARD
DTSTART;VALUE=DATE-TIME:20231029T020000
TZNAME:CET
TZOFFSETFROM:+0200
TZOFFSETTO:+0100
END:STANDARD
END:VTIMEZONE
END:VCALENDAR
