BEGIN:VCALENDAR
VERSION:2.0
PRODID:-//Plone.org//NONSGML plone.app.event//EN
X-WR-TIMEZONE:Europe/Madrid
BEGIN:VEVENT
SUMMARY:Reunión con entidades culturales del municipio
DTSTART;TZID=Europe/Madrid;VALUE=DATE-TIME:20230306T193000
DTEND;TZID=Europe/Madrid;VALUE=DATE-TIME:20230306T203000
DTSTAMP;VALUE=DATE-TIME:20260419T161639Z
UID:df3b9cb8016f41fc866ffca3276dcfb2@www.molletvalles.cat
CREATED;VALUE=DATE-TIME:20230301T133530Z
LAST-MODIFIED;VALUE=DATE-TIME:20230301T133533Z
LOCATION:Ayuntamiento de Mollet del Vallès
URL:https://www.molletvalles.cat/es/el-ayuntamiento/la-alcaldesa/agenda/re
 union-con-entidades-culturales-del-municipio
END:VEVENT
BEGIN:VTIMEZONE
TZID:Europe/Madrid
X-LIC-LOCATION:Europe/Madrid
BEGIN:STANDARD
DTSTART;VALUE=DATE-TIME:20221030T020000
TZNAME:CET
TZOFFSETFROM:+0200
TZOFFSETTO:+0100
END:STANDARD
END:VTIMEZONE
END:VCALENDAR
