BEGIN:VCALENDAR
VERSION:2.0
PRODID:-//Plone.org//NONSGML plone.app.event//EN
X-WR-TIMEZONE:Europe/Madrid
BEGIN:VEVENT
SUMMARY:Reunión con estudiantes con cita previa
DTSTART;TZID=Europe/Madrid;VALUE=DATE-TIME:20230518T173000
DTEND;TZID=Europe/Madrid;VALUE=DATE-TIME:20230518T183000
DTSTAMP;VALUE=DATE-TIME:20260421T114330Z
UID:85581958fb0f4fbe984ef3a8213d09ff@www.molletvalles.cat
CREATED;VALUE=DATE-TIME:20230516T110749Z
LAST-MODIFIED;VALUE=DATE-TIME:20230516T110752Z
LOCATION:Ayuntamiento de Mollet del Vallès
URL:https://www.molletvalles.cat/es/el-ayuntamiento/la-alcaldesa/agenda/re
 union-con-estudiantes-con-cita-previa
END:VEVENT
BEGIN:VTIMEZONE
TZID:Europe/Madrid
X-LIC-LOCATION:Europe/Madrid
BEGIN:DAYLIGHT
DTSTART;VALUE=DATE-TIME:20230326T030000
TZNAME:CEST
TZOFFSETFROM:+0100
TZOFFSETTO:+0200
END:DAYLIGHT
END:VTIMEZONE
END:VCALENDAR
