BEGIN:VCALENDAR
VERSION:2.0
PRODID:-//Plone.org//NONSGML plone.app.event//EN
X-WR-TIMEZONE:Europe/Madrid
BEGIN:VEVENT
SUMMARY:Reunión con otra administración
DTSTART;TZID=Europe/Madrid;VALUE=DATE-TIME:20230822T110000
DTEND;TZID=Europe/Madrid;VALUE=DATE-TIME:20230822T120000
DTSTAMP;VALUE=DATE-TIME:20260421T155737Z
UID:e756640fae554077bc3a19a684b8b138@www.molletvalles.cat
CREATED;VALUE=DATE-TIME:20230818T113415Z
LAST-MODIFIED;VALUE=DATE-TIME:20230818T113418Z
LOCATION:Mollet del Vallès
URL:https://www.molletvalles.cat/es/el-ayuntamiento/la-alcaldesa/agenda/re
 union-con-otra-administracion
END:VEVENT
BEGIN:VTIMEZONE
TZID:Europe/Madrid
X-LIC-LOCATION:Europe/Madrid
BEGIN:DAYLIGHT
DTSTART;VALUE=DATE-TIME:20230326T030000
TZNAME:CEST
TZOFFSETFROM:+0100
TZOFFSETTO:+0200
END:DAYLIGHT
END:VTIMEZONE
END:VCALENDAR
