BEGIN:VCALENDAR
VERSION:2.0
PRODID:-//Plone.org//NONSGML plone.app.event//EN
X-WR-TIMEZONE:Europe/Madrid
BEGIN:VEVENT
SUMMARY:Reunión con tejido comercial
DTSTART;TZID=Europe/Madrid;VALUE=DATE-TIME:20231211T130000
DTEND;TZID=Europe/Madrid;VALUE=DATE-TIME:20231211T140000
DTSTAMP;VALUE=DATE-TIME:20260421T140439Z
UID:158637a81fda44bebcd55d4cca3a57ab@www.molletvalles.cat
CREATED;VALUE=DATE-TIME:20231211T140645Z
LAST-MODIFIED;VALUE=DATE-TIME:20231211T140648Z
LOCATION:Ayuntamiento de Mollet del Vallès
URL:https://www.molletvalles.cat/es/el-ayuntamiento/la-alcaldesa/agenda/re
 union-con-tejido-comercial-16
END:VEVENT
BEGIN:VTIMEZONE
TZID:Europe/Madrid
X-LIC-LOCATION:Europe/Madrid
BEGIN:STANDARD
DTSTART;VALUE=DATE-TIME:20231029T020000
TZNAME:CET
TZOFFSETFROM:+0200
TZOFFSETTO:+0100
END:STANDARD
END:VTIMEZONE
END:VCALENDAR
