BEGIN:VCALENDAR
VERSION:2.0
PRODID:-//Plone.org//NONSGML plone.app.event//EN
X-WR-TIMEZONE:Europe/Madrid
BEGIN:VEVENT
SUMMARY:Reunión con una entidad
DTSTART;TZID=Europe/Madrid;VALUE=DATE-TIME:20220919T190000
DTEND;TZID=Europe/Madrid;VALUE=DATE-TIME:20220919T200000
DTSTAMP;VALUE=DATE-TIME:20260421T155924Z
UID:a45d2af5e4df4989b85ed69c7345f464@www.molletvalles.cat
CREATED;VALUE=DATE-TIME:20230201T144343Z
LAST-MODIFIED;VALUE=DATE-TIME:20230201T144347Z
URL:https://www.molletvalles.cat/es/el-ayuntamiento/la-alcaldesa/agenda/re
 union-con-una-entidad-3
END:VEVENT
BEGIN:VTIMEZONE
TZID:Europe/Madrid
X-LIC-LOCATION:Europe/Madrid
BEGIN:DAYLIGHT
DTSTART;VALUE=DATE-TIME:20220327T030000
TZNAME:CEST
TZOFFSETFROM:+0100
TZOFFSETTO:+0200
END:DAYLIGHT
END:VTIMEZONE
END:VCALENDAR
