BEGIN:VCALENDAR
VERSION:2.0
PRODID:-//Plone.org//NONSGML plone.app.event//EN
X-WR-TIMEZONE:Europe/Madrid
BEGIN:VEVENT
SUMMARY:Reunión con vecinos con cita previa
DTSTART;TZID=Europe/Madrid;VALUE=DATE-TIME:20250729T100000
DTEND;TZID=Europe/Madrid;VALUE=DATE-TIME:20250729T103000
DTSTAMP;VALUE=DATE-TIME:20260419T165702Z
UID:903a88299f1b4f798d257ad0d4e53c97@www.molletvalles.cat
CREATED;VALUE=DATE-TIME:20250729T102409Z
LAST-MODIFIED;VALUE=DATE-TIME:20250729T102415Z
LOCATION:Ayuntamiento Mollet del Vallès
URL:https://www.molletvalles.cat/es/el-ayuntamiento/la-alcaldesa/agenda/re
 union-con-vecinos-con-cita-previa-24
END:VEVENT
BEGIN:VTIMEZONE
TZID:Europe/Madrid
X-LIC-LOCATION:Europe/Madrid
BEGIN:DAYLIGHT
DTSTART;VALUE=DATE-TIME:20250330T030000
TZNAME:CEST
TZOFFSETFROM:+0100
TZOFFSETTO:+0200
END:DAYLIGHT
END:VTIMEZONE
END:VCALENDAR
