BEGIN:VCALENDAR
VERSION:2.0
PRODID:-//Plone.org//NONSGML plone.app.event//EN
X-WR-TIMEZONE:Europe/Madrid
BEGIN:VEVENT
SUMMARY:Reunión de Gobierno
DTSTART;TZID=Europe/Madrid;VALUE=DATE-TIME:20240219T170000
DTEND;TZID=Europe/Madrid;VALUE=DATE-TIME:20240219T180000
DTSTAMP;VALUE=DATE-TIME:20260421T140215Z
UID:77acba08121e4aafa63587b6ec6fe036@www.molletvalles.cat
CREATED;VALUE=DATE-TIME:20240311T115321Z
LAST-MODIFIED;VALUE=DATE-TIME:20240311T115324Z
LOCATION:Ayuntamiento de Mollet del Vallès
URL:https://www.molletvalles.cat/es/el-ayuntamiento/la-alcaldesa/agenda/re
 union-de-gobierno-4
END:VEVENT
BEGIN:VTIMEZONE
TZID:Europe/Madrid
X-LIC-LOCATION:Europe/Madrid
BEGIN:STANDARD
DTSTART;VALUE=DATE-TIME:20231029T020000
TZNAME:CET
TZOFFSETFROM:+0200
TZOFFSETTO:+0100
END:STANDARD
END:VTIMEZONE
END:VCALENDAR
