BEGIN:VCALENDAR
VERSION:2.0
PRODID:-//Plone.org//NONSGML plone.app.event//EN
X-WR-TIMEZONE:Europe/Madrid
BEGIN:VEVENT
SUMMARY:Reunión de la Junta Ordinaria del Patronato de la FSM
DTSTART;TZID=Europe/Madrid;VALUE=DATE-TIME:20250916T160000
DTEND;TZID=Europe/Madrid;VALUE=DATE-TIME:20250916T170000
DTSTAMP;VALUE=DATE-TIME:20260419T162138Z
UID:40ca0a325d534681a629d35abb56879c@www.molletvalles.cat
CREATED;VALUE=DATE-TIME:20250917T073806Z
LAST-MODIFIED;VALUE=DATE-TIME:20250917T073812Z
LOCATION:Campus Fundación FSM
URL:https://www.molletvalles.cat/es/el-ayuntamiento/la-alcaldesa/agenda/re
 union-de-la-junta-ordinaria-del-patronato-de-la-fsm-2
END:VEVENT
BEGIN:VTIMEZONE
TZID:Europe/Madrid
X-LIC-LOCATION:Europe/Madrid
BEGIN:DAYLIGHT
DTSTART;VALUE=DATE-TIME:20250330T030000
TZNAME:CEST
TZOFFSETFROM:+0100
TZOFFSETTO:+0200
END:DAYLIGHT
END:VTIMEZONE
END:VCALENDAR
