BEGIN:VCALENDAR
VERSION:2.0
PRODID:-//Plone.org//NONSGML plone.app.event//EN
X-WR-TIMEZONE:Europe/Madrid
BEGIN:VEVENT
SUMMARY:Reuniones con ciudadanía con cita previa
DTSTART;TZID=Europe/Madrid;VALUE=DATE-TIME:20221013T160000
DTEND;TZID=Europe/Madrid;VALUE=DATE-TIME:20221013T174000
DTSTAMP;VALUE=DATE-TIME:20260425T121843Z
UID:d2d99ae092774a79b30c7e8603ce7453@www.molletvalles.cat
CREATED;VALUE=DATE-TIME:20230201T122540Z
LAST-MODIFIED;VALUE=DATE-TIME:20230201T122542Z
LOCATION:Ayuntamiento de Mollet del Vallès
URL:https://www.molletvalles.cat/es/el-ayuntamiento/la-alcaldesa/agenda/re
 uniones-con-ciudadania-con-cita-previa
END:VEVENT
BEGIN:VTIMEZONE
TZID:Europe/Madrid
X-LIC-LOCATION:Europe/Madrid
BEGIN:DAYLIGHT
DTSTART;VALUE=DATE-TIME:20220327T030000
TZNAME:CEST
TZOFFSETFROM:+0100
TZOFFSETTO:+0200
END:DAYLIGHT
END:VTIMEZONE
END:VCALENDAR
