BEGIN:VCALENDAR
VERSION:2.0
PRODID:-//Plone.org//NONSGML plone.app.event//EN
X-WR-TIMEZONE:Europe/Madrid
BEGIN:VEVENT
SUMMARY:Rueda de Prensa IV Plan de Igualdad
DTSTART;TZID=Europe/Madrid;VALUE=DATE-TIME:20260428T094500
DTEND;TZID=Europe/Madrid;VALUE=DATE-TIME:20260428T103000
DTSTAMP;VALUE=DATE-TIME:20260425T040159Z
UID:c1cfd57c5ede45229e59d889366b2cb6@www.molletvalles.cat
CREATED;VALUE=DATE-TIME:20260424T105328Z
LAST-MODIFIED;VALUE=DATE-TIME:20260424T105335Z
LOCATION:Ayuntamiento Mollet del Vallès
URL:https://www.molletvalles.cat/es/el-ayuntamiento/la-alcaldesa/agenda/ru
 eda-de-prensa-iv-plan-de-igualdad
END:VEVENT
BEGIN:VTIMEZONE
TZID:Europe/Madrid
X-LIC-LOCATION:Europe/Madrid
BEGIN:DAYLIGHT
DTSTART;VALUE=DATE-TIME:20260329T030000
TZNAME:CEST
TZOFFSETFROM:+0100
TZOFFSETTO:+0200
END:DAYLIGHT
END:VTIMEZONE
END:VCALENDAR
