BEGIN:VCALENDAR
VERSION:2.0
PRODID:-//Plone.org//NONSGML plone.app.event//EN
X-WR-TIMEZONE:Europe/Madrid
BEGIN:VEVENT
SUMMARY:Rueda de Prensa Vivienda
DTSTART;TZID=Europe/Madrid;VALUE=DATE-TIME:20260427T110000
DTEND;TZID=Europe/Madrid;VALUE=DATE-TIME:20260427T113000
DTSTAMP;VALUE=DATE-TIME:20260425T040455Z
UID:efd2a6a5c35f4980a77d3e46524ba6a9@www.molletvalles.cat
CREATED;VALUE=DATE-TIME:20260424T104809Z
LAST-MODIFIED;VALUE=DATE-TIME:20260424T104815Z
LOCATION:Ayuntamiento Mollet del Vallès
URL:https://www.molletvalles.cat/es/el-ayuntamiento/la-alcaldesa/agenda/ru
 eda-de-prensa-vivienda
END:VEVENT
BEGIN:VTIMEZONE
TZID:Europe/Madrid
X-LIC-LOCATION:Europe/Madrid
BEGIN:DAYLIGHT
DTSTART;VALUE=DATE-TIME:20260329T030000
TZNAME:CEST
TZOFFSETFROM:+0100
TZOFFSETTO:+0200
END:DAYLIGHT
END:VTIMEZONE
END:VCALENDAR
