BEGIN:VCALENDAR
VERSION:2.0
PRODID:-//Plone.org//NONSGML plone.app.event//EN
X-WR-TIMEZONE:Europe/Madrid
BEGIN:VEVENT
SUMMARY:Saludo grupo musical Festival Mollet Music Week
DTSTART;TZID=Europe/Madrid;VALUE=DATE-TIME:20230711T190000
DTEND;TZID=Europe/Madrid;VALUE=DATE-TIME:20230711T200000
DTSTAMP;VALUE=DATE-TIME:20260419T162529Z
UID:3f36b272cf2d46d089e6e5c6465c0ba1@www.molletvalles.cat
CREATED;VALUE=DATE-TIME:20230714T081057Z
LAST-MODIFIED;VALUE=DATE-TIME:20230714T081101Z
URL:https://www.molletvalles.cat/es/el-ayuntamiento/la-alcaldesa/agenda/sa
 ludo-grupo-musical-festival-mollet-music-week-1
END:VEVENT
BEGIN:VTIMEZONE
TZID:Europe/Madrid
X-LIC-LOCATION:Europe/Madrid
BEGIN:DAYLIGHT
DTSTART;VALUE=DATE-TIME:20230326T030000
TZNAME:CEST
TZOFFSETFROM:+0100
TZOFFSETTO:+0200
END:DAYLIGHT
END:VTIMEZONE
END:VCALENDAR
