BEGIN:VCALENDAR
VERSION:2.0
PRODID:-//Plone.org//NONSGML plone.app.event//EN
X-WR-TIMEZONE:Europe/Madrid
BEGIN:VEVENT
SUMMARY:Saludo y recepción en el Consejo de los Niños que trabajará en 
 torno al proyecto Mollet Juega
DTSTART;TZID=Europe/Madrid;VALUE=DATE-TIME:20241211T100000
DTEND;TZID=Europe/Madrid;VALUE=DATE-TIME:20241211T110000
DTSTAMP;VALUE=DATE-TIME:20260419T162138Z
UID:acf7d772a3b1414e9d22d902501c4414@www.molletvalles.cat
CREATED;VALUE=DATE-TIME:20241216T150238Z
LAST-MODIFIED;VALUE=DATE-TIME:20241216T150242Z
LOCATION:Ayuntamiento de Mollet del Vallès
URL:https://www.molletvalles.cat/es/el-ayuntamiento/la-alcaldesa/agenda/sa
 ludo-y-recepcion-en-el-consejo-de-los-ninos-que-trabajara-en-torno-al-proy
 ecto-mollet-juega
END:VEVENT
BEGIN:VTIMEZONE
TZID:Europe/Madrid
X-LIC-LOCATION:Europe/Madrid
BEGIN:STANDARD
DTSTART;VALUE=DATE-TIME:20241027T020000
TZNAME:CET
TZOFFSETFROM:+0200
TZOFFSETTO:+0100
END:STANDARD
END:VTIMEZONE
END:VCALENDAR
