BEGIN:VCALENDAR
VERSION:2.0
PRODID:-//Plone.org//NONSGML plone.app.event//EN
X-WR-TIMEZONE:Europe/Madrid
BEGIN:VEVENT
SUMMARY:Sardanas con la Cobla Sabadell
DTSTART;TZID=Europe/Madrid;VALUE=DATE-TIME:20240623T183000
DTEND;TZID=Europe/Madrid;VALUE=DATE-TIME:20240623T193000
DTSTAMP;VALUE=DATE-TIME:20260421T140304Z
UID:d88b9978d53849c09dbf0e8fd7b0483a@www.molletvalles.cat
CREATED;VALUE=DATE-TIME:20240621T111013Z
LAST-MODIFIED;VALUE=DATE-TIME:20240621T111551Z
LOCATION:Plaza Cataluña
URL:https://www.molletvalles.cat/es/el-ayuntamiento/la-alcaldesa/agenda/sa
 rdanas-con-la-cobla-sabadell
END:VEVENT
BEGIN:VTIMEZONE
TZID:Europe/Madrid
X-LIC-LOCATION:Europe/Madrid
BEGIN:DAYLIGHT
DTSTART;VALUE=DATE-TIME:20240331T030000
TZNAME:CEST
TZOFFSETFROM:+0100
TZOFFSETTO:+0200
END:DAYLIGHT
END:VTIMEZONE
END:VCALENDAR
