BEGIN:VCALENDAR
VERSION:2.0
PRODID:-//Plone.org//NONSGML plone.app.event//EN
X-WR-TIMEZONE:Europe/Madrid
BEGIN:VEVENT
SUMMARY:V Foro de Municipios Comprometidos con la Igualdad
DTSTART;TZID=Europe/Madrid;VALUE=DATE-TIME:20251024T083000
DTEND;TZID=Europe/Madrid;VALUE=DATE-TIME:20251024T120000
DTSTAMP;VALUE=DATE-TIME:20260421T140557Z
UID:7c6a9a08bba242658e3917e66d00ac52@www.molletvalles.cat
CREATED;VALUE=DATE-TIME:20251020T075953Z
LAST-MODIFIED;VALUE=DATE-TIME:20251020T075958Z
LOCATION:Santa Coloma de Gramanet
URL:https://www.molletvalles.cat/es/el-ayuntamiento/la-alcaldesa/agenda/v-
 foro-de-municipios-comprometidos-con-la-igualdad
END:VEVENT
BEGIN:VTIMEZONE
TZID:Europe/Madrid
X-LIC-LOCATION:Europe/Madrid
BEGIN:DAYLIGHT
DTSTART;VALUE=DATE-TIME:20250330T030000
TZNAME:CEST
TZOFFSETFROM:+0100
TZOFFSETTO:+0200
END:DAYLIGHT
END:VTIMEZONE
END:VCALENDAR
