BEGIN:VCALENDAR
VERSION:2.0
PRODID:-//Plone.org//NONSGML plone.app.event//EN
X-WR-TIMEZONE:Europe/Madrid
BEGIN:VEVENT
SUMMARY:Visita a comercio de la ciudad
DTSTART;TZID=Europe/Madrid;VALUE=DATE-TIME:20240725T110000
DTEND;TZID=Europe/Madrid;VALUE=DATE-TIME:20240725T120000
DTSTAMP;VALUE=DATE-TIME:20260421T140209Z
UID:e057853de99a4eec9ba88047fd7535c3@www.molletvalles.cat
CREATED;VALUE=DATE-TIME:20240726T113519Z
LAST-MODIFIED;VALUE=DATE-TIME:20240726T113521Z
LOCATION:Mollet del Vallès
URL:https://www.molletvalles.cat/es/el-ayuntamiento/la-alcaldesa/agenda/vi
 sita-a-comercio-de-la-ciudad-1
END:VEVENT
BEGIN:VTIMEZONE
TZID:Europe/Madrid
X-LIC-LOCATION:Europe/Madrid
BEGIN:DAYLIGHT
DTSTART;VALUE=DATE-TIME:20240331T030000
TZNAME:CEST
TZOFFSETFROM:+0100
TZOFFSETTO:+0200
END:DAYLIGHT
END:VTIMEZONE
END:VCALENDAR
