BEGIN:VCALENDAR
VERSION:2.0
PRODID:-//Plone.org//NONSGML plone.app.event//EN
X-WR-TIMEZONE:Europe/Madrid
BEGIN:VEVENT
SUMMARY:Visita ciudadanía con cita previa
DTSTART;TZID=Europe/Madrid;VALUE=DATE-TIME:20230522T110000
DTEND;TZID=Europe/Madrid;VALUE=DATE-TIME:20230522T120000
DTSTAMP;VALUE=DATE-TIME:20260421T160457Z
UID:1d02ff98df334c54b30c1e51de483067@www.molletvalles.cat
CREATED;VALUE=DATE-TIME:20230524T101839Z
LAST-MODIFIED;VALUE=DATE-TIME:20230524T101841Z
LOCATION:C. Santiago Tiffon
URL:https://www.molletvalles.cat/es/el-ayuntamiento/la-alcaldesa/agenda/vi
 sita-ciudadania-con-cita-previa-1
END:VEVENT
BEGIN:VTIMEZONE
TZID:Europe/Madrid
X-LIC-LOCATION:Europe/Madrid
BEGIN:DAYLIGHT
DTSTART;VALUE=DATE-TIME:20230326T030000
TZNAME:CEST
TZOFFSETFROM:+0100
TZOFFSETTO:+0200
END:DAYLIGHT
END:VTIMEZONE
END:VCALENDAR
