BEGIN:VCALENDAR
VERSION:2.0
PRODID:-//Plone.org//NONSGML plone.app.event//EN
X-WR-TIMEZONE:Europe/Madrid
BEGIN:VEVENT
SUMMARY:Visita con ciudadanía con cita previa
DTSTART;TZID=Europe/Madrid;VALUE=DATE-TIME:20230317T120000
DTEND;TZID=Europe/Madrid;VALUE=DATE-TIME:20230317T130000
DTSTAMP;VALUE=DATE-TIME:20260421T160351Z
UID:47081f7248804f4ea842b5397715cce9@www.molletvalles.cat
CREATED;VALUE=DATE-TIME:20230314T044849Z
LAST-MODIFIED;VALUE=DATE-TIME:20230314T044853Z
URL:https://www.molletvalles.cat/es/el-ayuntamiento/la-alcaldesa/agenda/vi
 sita-con-ciudadania-con-cita-previa
END:VEVENT
BEGIN:VTIMEZONE
TZID:Europe/Madrid
X-LIC-LOCATION:Europe/Madrid
BEGIN:STANDARD
DTSTART;VALUE=DATE-TIME:20221030T020000
TZNAME:CET
TZOFFSETFROM:+0200
TZOFFSETTO:+0100
END:STANDARD
END:VTIMEZONE
END:VCALENDAR
