BEGIN:VCALENDAR
VERSION:2.0
PRODID:-//Plone.org//NONSGML plone.app.event//EN
X-WR-TIMEZONE:Europe/Madrid
BEGIN:VEVENT
SUMMARY:Visita con el Carnaval en las escuelas de la ciudad
DTSTART;TZID=Europe/Madrid;VALUE=DATE-TIME:20250226T113000
DTEND;TZID=Europe/Madrid;VALUE=DATE-TIME:20250226T123000
DTSTAMP;VALUE=DATE-TIME:20260425T121749Z
UID:767310b6bb0a486cb28b96db3c184b8f@www.molletvalles.cat
CREATED;VALUE=DATE-TIME:20250306T130251Z
LAST-MODIFIED;VALUE=DATE-TIME:20250306T130254Z
LOCATION:Escuela Can Vila
URL:https://www.molletvalles.cat/es/el-ayuntamiento/la-alcaldesa/agenda/vi
 sita-con-el-carnaval-en-las-escuelas-de-la-ciudad-2
END:VEVENT
BEGIN:VTIMEZONE
TZID:Europe/Madrid
X-LIC-LOCATION:Europe/Madrid
BEGIN:STANDARD
DTSTART;VALUE=DATE-TIME:20241027T020000
TZNAME:CET
TZOFFSETFROM:+0200
TZOFFSETTO:+0100
END:STANDARD
END:VTIMEZONE
END:VCALENDAR
