BEGIN:VCALENDAR
VERSION:2.0
PRODID:-//Plone.org//NONSGML plone.app.event//EN
X-WR-TIMEZONE:Europe/Madrid
BEGIN:VEVENT
SUMMARY:Visita del delegado territorial del Gobierno de la Generalidad en 
 Barcelona\, Joan Borràs y Alborch
DTSTART;TZID=Europe/Madrid;VALUE=DATE-TIME:20240126T120000
DTEND;TZID=Europe/Madrid;VALUE=DATE-TIME:20240126T130000
DTSTAMP;VALUE=DATE-TIME:20260419T162443Z
UID:8d61bbf544c64c5c95073d951fe669dc@www.molletvalles.cat
CREATED;VALUE=DATE-TIME:20240205T135621Z
LAST-MODIFIED;VALUE=DATE-TIME:20240205T135624Z
LOCATION:Ayuntamiento de Mollet del Vallès
URL:https://www.molletvalles.cat/es/el-ayuntamiento/la-alcaldesa/agenda/vi
 sita-del-delegado-territorial-del-gobierno-de-la-generalidad-en-barcelona-
 joan-borras-y-alborch
END:VEVENT
BEGIN:VTIMEZONE
TZID:Europe/Madrid
X-LIC-LOCATION:Europe/Madrid
BEGIN:STANDARD
DTSTART;VALUE=DATE-TIME:20231029T020000
TZNAME:CET
TZOFFSETFROM:+0200
TZOFFSETTO:+0100
END:STANDARD
END:VTIMEZONE
END:VCALENDAR
