BEGIN:VCALENDAR
VERSION:2.0
PRODID:-//Plone.org//NONSGML plone.app.event//EN
X-WR-TIMEZONE:Europe/Madrid
BEGIN:VEVENT
SUMMARY:Visita director SSTT BCN del Departamento de Interior y Seguridad 
 Pública
DTSTART;TZID=Europe/Madrid;VALUE=DATE-TIME:20250930T120000
DTEND;TZID=Europe/Madrid;VALUE=DATE-TIME:20250930T130000
DTSTAMP;VALUE=DATE-TIME:20260419T221527Z
UID:2e02d4a18574429db584afa40587d196@www.molletvalles.cat
CREATED;VALUE=DATE-TIME:20250929T154725Z
LAST-MODIFIED;VALUE=DATE-TIME:20250929T154730Z
LOCATION:Ayuntamiento Mollet del Vallès
URL:https://www.molletvalles.cat/es/el-ayuntamiento/la-alcaldesa/agenda/vi
 sita-director-sstt-bcn-del-departamento-de-interior-y-seguridad-publica
END:VEVENT
BEGIN:VTIMEZONE
TZID:Europe/Madrid
X-LIC-LOCATION:Europe/Madrid
BEGIN:DAYLIGHT
DTSTART;VALUE=DATE-TIME:20250330T030000
TZNAME:CEST
TZOFFSETFROM:+0100
TZOFFSETTO:+0200
END:DAYLIGHT
END:VTIMEZONE
END:VCALENDAR
