BEGIN:VCALENDAR
VERSION:2.0
PRODID:-//Plone.org//NONSGML plone.app.event//EN
X-WR-TIMEZONE:Europe/Madrid
BEGIN:VEVENT
SUMMARY:Visita Institucional\, Toni Morral\, Delegado territorial del Gobi
 erno de la Generalidad en Barcelona
DTSTART;TZID=Europe/Madrid;VALUE=DATE-TIME:20220906T120000
DTEND;TZID=Europe/Madrid;VALUE=DATE-TIME:20220906T133000
DTSTAMP;VALUE=DATE-TIME:20260419T162132Z
UID:fcdfd812b14c4ee4bbf6d81beba625fc@www.molletvalles.cat
CREATED;VALUE=DATE-TIME:20230202T125858Z
LAST-MODIFIED;VALUE=DATE-TIME:20230202T125901Z
LOCATION:Ayuntamiento de Mollet del Vallès
URL:https://www.molletvalles.cat/es/el-ayuntamiento/la-alcaldesa/agenda/vi
 sita-institucional-toni-morral-delegado-territorial-del-gobierno-de-la-gen
 eralidad-en-barcelona
END:VEVENT
BEGIN:VTIMEZONE
TZID:Europe/Madrid
X-LIC-LOCATION:Europe/Madrid
BEGIN:DAYLIGHT
DTSTART;VALUE=DATE-TIME:20220327T030000
TZNAME:CEST
TZOFFSETFROM:+0100
TZOFFSETTO:+0200
END:DAYLIGHT
END:VTIMEZONE
END:VCALENDAR
