BEGIN:VCALENDAR
VERSION:2.0
PRODID:-//Plone.org//NONSGML plone.app.event//EN
X-WR-TIMEZONE:Europe/Madrid
BEGIN:VEVENT
SUMMARY:XXX Fiesta del Deporte de Mollet del Vallès
DTSTART;TZID=Europe/Madrid;VALUE=DATE-TIME:20230127T200000
DTEND;TZID=Europe/Madrid;VALUE=DATE-TIME:20230127T220000
DTSTAMP;VALUE=DATE-TIME:20260419T162215Z
UID:613a752f635146c1b7108a91ec7f8d0d@www.molletvalles.cat
CREATED;VALUE=DATE-TIME:20230127T121803Z
LAST-MODIFIED;VALUE=DATE-TIME:20230127T121806Z
LOCATION:Teatro Municipal Can Gomà
URL:https://www.molletvalles.cat/es/el-ayuntamiento/la-alcaldesa/agenda/xx
 x-fiesta-del-deporte-de-mollet-del-valles
END:VEVENT
BEGIN:VTIMEZONE
TZID:Europe/Madrid
X-LIC-LOCATION:Europe/Madrid
BEGIN:STANDARD
DTSTART;VALUE=DATE-TIME:20221030T020000
TZNAME:CET
TZOFFSETFROM:+0200
TZOFFSETTO:+0100
END:STANDARD
END:VTIMEZONE
END:VCALENDAR
